BEGIN:VCALENDAR
PRODID:-//MatrixMaxx//RemoteApi//EN
VERSION:2.0
METHOD:PUBLISH
CALSCALE:GREGORIAN
X-ORIGINAL-URL:http://www.socma.org/forms/meeting/Microsite/1200golf-2021
BEGIN:VEVENT
SUMMARY:16th Annual SOCMA Golf Tournament
LAST-MODIFIED:20210907T143000Z
UID:ci_168500000000B@matrixgroup.net
CLASS:PUBLIC
CREATED:20210907T143000Z
DTSTAMP:20210907T143000Z
DTSTART:20210907T143000Z
X-FUNAMBOL-ALLDAY:1
LOCATION:Dunes+West+Golf+%26+River+Club
DESCRIPTION:For+full+info+see+http%3A%2F%2Fwww.socma.org%2Fforms%2Fmeeting%2FMicrosite%2F1200golf-2021%0AGet+ready+for+Tee+Time%21+SOCMA%27s+15th+Annual+Golf+Tournament+will+be+held+on+September+7+at+the+Dunes+West+Golf+%26+River+Club.+Proceeds+benefit+the+American+Chemical+Society+Scholars+Program.
X-WR-CALDESC:For+full+info+see+http%3A%2F%2Fwww.socma.org%2Fforms%2Fmeeting%2FMicrosite%2F1200golf-2021%0AGet+ready+for+Tee+Time%21+SOCMA%27s+15th+Annual+Golf+Tournament+will+be+held+on+September+7+at+the+Dunes+West+Golf+%26+River+Club.+Proceeds+benefit+the+American+Chemical+Society+Scholars+Program.
X-WR-CALNAME:Maxx Calendar
DTEND:20210907T230000Z
URL:http://www.socma.org/forms/meeting/Microsite/1200golf-2021
END:VEVENT
END:VCALENDAR